BEGIN:VCALENDAR
VERSION:2.0
PRODID:-//Route 66 Car Club of Flagstaff - ECPv6.15.20//NONSGML v1.0//EN
CALSCALE:GREGORIAN
METHOD:PUBLISH
X-ORIGINAL-URL:https://route66carclub.org
X-WR-CALDESC:Events for Route 66 Car Club of Flagstaff
REFRESH-INTERVAL;VALUE=DURATION:PT1H
X-Robots-Tag:noindex
X-PUBLISHED-TTL:PT1H
BEGIN:VTIMEZONE
TZID:America/Phoenix
BEGIN:STANDARD
TZOFFSETFROM:-0700
TZOFFSETTO:-0700
TZNAME:MST
DTSTART:20220101T000000
END:STANDARD
END:VTIMEZONE
BEGIN:VEVENT
DTSTART;TZID=America/Phoenix:20230405T180000
DTEND;TZID=America/Phoenix:20230405T200000
DTSTAMP:20260419T055051
CREATED:20230224T125634Z
LAST-MODIFIED:20230224T130509Z
UID:10000434-1680717600-1680724800@route66carclub.org
SUMMARY:Board Meeting
DESCRIPTION:Meeting for the Route 66 Car Club of Flagstaff Board of Directors. All members are welcome to attend\, however only Board members are able to vote.
URL:https://route66carclub.org/event/board-meeting/2023-04-05/
LOCATION:Mary’s Cafe\, 7136 N. Hwy 89\, Flagstaff\, AZ\, 86004\, United States
CATEGORIES:Board of Directors Events
END:VEVENT
BEGIN:VEVENT
DTSTART;VALUE=DATE:20230408
DTEND;VALUE=DATE:20230409
DTSTAMP:20260419T055051
CREATED:20230224T131752Z
LAST-MODIFIED:20230224T131838Z
UID:10000556-1680912000-1680998399@route66carclub.org
SUMMARY:Miss Kitty’s Cruise for Lunch\, Williams
DESCRIPTION:Miss Kitty’s Cruise for Lunch\, Williams
URL:https://route66carclub.org/event/miss-kittys-cruise-for-lunch-williams/
END:VEVENT
BEGIN:VEVENT
DTSTART;TZID=America/Phoenix:20230409T140000
DTEND;TZID=America/Phoenix:20230409T150000
DTSTAMP:20260419T055051
CREATED:20230224T131919Z
LAST-MODIFIED:20230224T131919Z
UID:10000557-1681048800-1681052400@route66carclub.org
SUMMARY:Flagstaff Cruisers Club Meeting-2:00pm Club House
DESCRIPTION:Flagstaff Cruisers Club Meeting-2:00pm Club House
URL:https://route66carclub.org/event/flagstaff-cruisers-club-meeting-200pm-club-house/
END:VEVENT
BEGIN:VEVENT
DTSTART;VALUE=DATE:20230415
DTEND;VALUE=DATE:20230416
DTSTAMP:20260419T055051
CREATED:20230224T131957Z
LAST-MODIFIED:20230224T131957Z
UID:10000558-1681516800-1681603199@route66carclub.org
SUMMARY:F. C. Highway Clean Up
DESCRIPTION:F. C. Highway Clean Up
URL:https://route66carclub.org/event/f-c-highway-clean-up/
END:VEVENT
BEGIN:VEVENT
DTSTART;TZID=America/Phoenix:20230415T100000
DTEND;TZID=America/Phoenix:20230415T170000
DTSTAMP:20260419T055051
CREATED:20230224T131701Z
LAST-MODIFIED:20230224T133541Z
UID:10000497-1681552800-1681578000@route66carclub.org
SUMMARY:Rt. 66 Cruise
DESCRIPTION:Our monthly Cruise meets in front of Verizon on the third Saturday of every month (except 8/18/2023)  and we’ll drive to various locations of interest around Northern Arizona. Bring any car you would like\, but we’d live to see you show up in a special-interest car of some kind. Members\, guests and general public welcome! \nMeets at: 1322 E Rte 66\, Flagstaff\, AZ 86001\nWheels roll: 10:30 AM
URL:https://route66carclub.org/event/rt-66-cruise/2023-04-15/
LOCATION:1322 E Rte 66\, Flagstaff\, AZ 86001\, 1322 E Rte 66\, Flagstaff\, 86001\, United States
END:VEVENT
BEGIN:VEVENT
DTSTART;VALUE=DATE:20230422
DTEND;VALUE=DATE:20230423
DTSTAMP:20260419T055051
CREATED:20230224T132023Z
LAST-MODIFIED:20230224T132023Z
UID:10000559-1682121600-1682207999@route66carclub.org
SUMMARY:Veterans Car Show Prescott Valley
DESCRIPTION:Veterans Car Show Prescott Valley
URL:https://route66carclub.org/event/veterans-car-show-prescott-valley/
END:VEVENT
END:VCALENDAR