BEGIN:VCALENDAR
VERSION:2.0
PRODID:-//Route 66 Car Club of Flagstaff - ECPv6.15.20//NONSGML v1.0//EN
CALSCALE:GREGORIAN
METHOD:PUBLISH
X-ORIGINAL-URL:https://route66carclub.org
X-WR-CALDESC:Events for Route 66 Car Club of Flagstaff
REFRESH-INTERVAL;VALUE=DURATION:PT1H
X-Robots-Tag:noindex
X-PUBLISHED-TTL:PT1H
BEGIN:VTIMEZONE
TZID:America/Phoenix
BEGIN:STANDARD
TZOFFSETFROM:-0700
TZOFFSETTO:-0700
TZNAME:MST
DTSTART:20220101T000000
END:STANDARD
END:VTIMEZONE
BEGIN:VEVENT
DTSTART;TZID=America/Phoenix:20230301T180000
DTEND;TZID=America/Phoenix:20230301T200000
DTSTAMP:20260419T074733
CREATED:20230224T125634Z
LAST-MODIFIED:20230224T130509Z
UID:10000375-1677693600-1677700800@route66carclub.org
SUMMARY:Board Meeting
DESCRIPTION:Meeting for the Route 66 Car Club of Flagstaff Board of Directors. All members are welcome to attend\, however only Board members are able to vote.
URL:https://route66carclub.org/event/board-meeting/2023-03-01/
LOCATION:Mary’s Cafe\, 7136 N. Hwy 89\, Flagstaff\, AZ\, 86004\, United States
CATEGORIES:Board of Directors Events
END:VEVENT
BEGIN:VEVENT
DTSTART;TZID=America/Phoenix:20230304T100000
DTEND;TZID=America/Phoenix:20230304T170000
DTSTAMP:20260419T074733
CREATED:20230224T130854Z
LAST-MODIFIED:20230224T130854Z
UID:10000493-1677924000-1677949200@route66carclub.org
SUMMARY:Wupatki/Sunset Crater Cruise
DESCRIPTION:Wupatki/Sunset Crater Cruise \nMeets at: 1322 E Rte 66\, Flagstaff\, AZ 86001 \nWheels roll: 10:30 AM
URL:https://route66carclub.org/event/wupatki-sunset-crater-cruise/
CATEGORIES:Cruise
END:VEVENT
BEGIN:VEVENT
DTSTART;VALUE=DATE:20230311
DTEND;VALUE=DATE:20230312
DTSTAMP:20260419T074733
CREATED:20230224T130927Z
LAST-MODIFIED:20230224T130927Z
UID:10000494-1678492800-1678579199@route66carclub.org
SUMMARY:Clarkdale Car Show
DESCRIPTION:Clarkdale Car Show
URL:https://route66carclub.org/event/clarkdale-car-show/
END:VEVENT
BEGIN:VEVENT
DTSTART;TZID=America/Phoenix:20230312T140000
DTEND;TZID=America/Phoenix:20230312T150000
DTSTAMP:20260419T074733
CREATED:20230224T131056Z
LAST-MODIFIED:20230224T131056Z
UID:10000495-1678629600-1678633200@route66carclub.org
SUMMARY:Flagstaff Cruiser Club Meeting-2:00pm Club House
DESCRIPTION:Flagstaff Cruiser Club Meeting-2:00pm Club House
URL:https://route66carclub.org/event/flagstaff-cruiser-club-meeting-200pm-club-house/
END:VEVENT
BEGIN:VEVENT
DTSTART;TZID=America/Phoenix:20230318T100000
DTEND;TZID=America/Phoenix:20230318T170000
DTSTAMP:20260419T074733
CREATED:20230224T131701Z
LAST-MODIFIED:20230224T133541Z
UID:10000496-1679133600-1679158800@route66carclub.org
SUMMARY:Rt. 66 Cruise
DESCRIPTION:Our monthly Cruise meets in front of Verizon on the third Saturday of every month (except 8/18/2023)  and we’ll drive to various locations of interest around Northern Arizona. Bring any car you would like\, but we’d live to see you show up in a special-interest car of some kind. Members\, guests and general public welcome! \nMeets at: 1322 E Rte 66\, Flagstaff\, AZ 86001\nWheels roll: 10:30 AM
URL:https://route66carclub.org/event/rt-66-cruise/2023-03-18/
LOCATION:1322 E Rte 66\, Flagstaff\, AZ 86001\, 1322 E Rte 66\, Flagstaff\, 86001\, United States
END:VEVENT
END:VCALENDAR