BEGIN:VCALENDAR
VERSION:2.0
PRODID:-//Route 66 Car Club of Flagstaff - ECPv6.15.20//NONSGML v1.0//EN
CALSCALE:GREGORIAN
METHOD:PUBLISH
X-WR-CALNAME:Route 66 Car Club of Flagstaff
X-ORIGINAL-URL:https://route66carclub.org
X-WR-CALDESC:Events for Route 66 Car Club of Flagstaff
REFRESH-INTERVAL;VALUE=DURATION:PT1H
X-Robots-Tag:noindex
X-PUBLISHED-TTL:PT1H
BEGIN:VTIMEZONE
TZID:America/Phoenix
BEGIN:STANDARD
TZOFFSETFROM:-0700
TZOFFSETTO:-0700
TZNAME:MST
DTSTART:20210101T000000
END:STANDARD
END:VTIMEZONE
BEGIN:VEVENT
DTSTART;TZID=America/Phoenix:20220930T100000
DTEND;TZID=America/Phoenix:20221001T160000
DTSTAMP:20260419T161737
CREATED:20220810T222106Z
LAST-MODIFIED:20220810T222106Z
UID:10000363-1664532000-1664640000@route66carclub.org
SUMMARY:27th Annual Just Cruis'n Car Club Car Show
DESCRIPTION:
URL:https://route66carclub.org/event/27th-annual-just-cruisn-car-club-car-show/
LOCATION:Standin’ on the Corner Park\, Corner of Kinsley &\, E 2nd St\, Winslow\, AZ\, United States
END:VEVENT
BEGIN:VEVENT
DTSTART;TZID=America/Phoenix:20221001T100000
DTEND;TZID=America/Phoenix:20221001T140000
DTSTAMP:20260419T161737
CREATED:20220810T222737Z
LAST-MODIFIED:20220810T222737Z
UID:10000364-1664618400-1664632800@route66carclub.org
SUMMARY:39th Annual Sedona Car Show
DESCRIPTION:
URL:https://route66carclub.org/event/39th-annual-sedona-car-show/
LOCATION:Sedona Airport\, 235 Air Terminal Drive\, Sedona\, AZ\, 86336\, United States
END:VEVENT
BEGIN:VEVENT
DTSTART;TZID=America/Phoenix:20221005T180000
DTEND;TZID=America/Phoenix:20221005T190000
DTSTAMP:20260419T161737
CREATED:20220105T225946Z
LAST-MODIFIED:20220306T221057Z
UID:10000303-1664992800-1664996400@route66carclub.org
SUMMARY:October 2022 Route 66 Car Club of Flagstaff Board Meeting
DESCRIPTION:
URL:https://route66carclub.org/event/october-2022-route-66-car-club-of-flagstaff-board-meeting/
LOCATION:TBD\, United States
CATEGORIES:Board of Directors Events
END:VEVENT
BEGIN:VEVENT
DTSTART;TZID=America/Phoenix:20221008T080000
DTEND;TZID=America/Phoenix:20221008T150000
DTSTAMP:20260419T161737
CREATED:20221007T225709Z
LAST-MODIFIED:20221007T225709Z
UID:10000368-1665216000-1665241200@route66carclub.org
SUMMARY:2022 Beeline Cruise-In Car Show
DESCRIPTION:
URL:https://route66carclub.org/event/2022-beeline-cruise-in-car-show/
LOCATION:Green Valley Park\, 1000 W. Country Club Drive\, Payson\, AZ\, United States
END:VEVENT
BEGIN:VEVENT
DTSTART;TZID=America/Phoenix:20221012T180000
DTEND;TZID=America/Phoenix:20221012T190000
DTSTAMP:20260419T161737
CREATED:20220105T211057Z
LAST-MODIFIED:20221011T213538Z
UID:10000217-1665597600-1665601200@route66carclub.org
SUMMARY:October 2022 Route 66 Car Club of Flagstaff Membership Meeting
DESCRIPTION:  \nRemember– Nominations for the Board of Directors and Suggestions for End of Year Charities\n 
URL:https://route66carclub.org/event/october-2022-route-66-car-club-of-flagstaff-membership-meeting/
LOCATION:Miz Zip’s\, 2924 E Rte 66\,\, Flagstaff\, United States
CATEGORIES:Member Events
END:VEVENT
BEGIN:VEVENT
DTSTART;TZID=America/Phoenix:20221015T100000
DTEND;TZID=America/Phoenix:20221015T150000
DTSTAMP:20260419T161737
CREATED:20220115T213035Z
LAST-MODIFIED:20221013T231124Z
UID:10000311-1665828000-1665846000@route66carclub.org
SUMMARY:Club Cruise to Snowbowl for Fall Colors
DESCRIPTION:Meet at 10:00AM at N.E. Corner of Rt66 and Switzer. Wheels Roll at 10:30AM.\nRoute 66 Car Club October 2022 Cruise to Arizona Snowbowl
URL:https://route66carclub.org/event/club-cruise-to-snowbowl-for-fall-colors/
LOCATION:Snowbowl\, 9300 North Snowbowl Road\, Flagstaff\, AZ\, United States
CATEGORIES:Member Events
END:VEVENT
BEGIN:VEVENT
DTSTART;TZID=America/Phoenix:20221028T043000
DTEND;TZID=America/Phoenix:20221028T183000
DTSTAMP:20260419T161737
CREATED:20221024T225204Z
LAST-MODIFIED:20221027T223636Z
UID:10000372-1666931400-1666981800@route66carclub.org
SUMMARY:Fridays at Park Santa Fe--Trunk or Treat (Last of the Season!)
DESCRIPTION:
URL:https://route66carclub.org/event/fridays-at-park-santa-fe-trunk-or-treat-last-of-the-season/
LOCATION:Park Santa Fe Shopping Center\, 3500 E. Route 66\, Flagstaff\, AZ\, United States
END:VEVENT
BEGIN:VEVENT
DTSTART;TZID=America/Phoenix:20221029T153000
DTEND;TZID=America/Phoenix:20221029T180000
DTSTAMP:20260419T161737
CREATED:20221027T223320Z
LAST-MODIFIED:20221027T224318Z
UID:10000288-1667057400-1667066400@route66carclub.org
SUMMARY:3rd Annual Doney Park Halloween Parade and Trunk or Treat
DESCRIPTION:
URL:https://route66carclub.org/event/3rd-annual-doney-park-halloween-parade-and-trunk-or-treat/
LOCATION:Mountain View Market\, 6990 Lumberjack Blvd #9630\, Flagstaff\, AZ\, United States
END:VEVENT
BEGIN:VEVENT
DTSTART;TZID=America/Phoenix:20221030T080000
DTEND;TZID=America/Phoenix:20221030T120000
DTSTAMP:20260419T161737
CREATED:20221024T225847Z
LAST-MODIFIED:20221024T225847Z
UID:10000373-1667116800-1667131200@route66carclub.org
SUMMARY:Cruise Into Comfort
DESCRIPTION:
URL:https://route66carclub.org/event/cruise-into-comfort/
LOCATION:Comfort Mobility & Medical Supplies\, 1230 W. Iron Springs Road\, Prescott\, AZ\, United States
END:VEVENT
END:VCALENDAR