BEGIN:VCALENDAR
VERSION:2.0
PRODID:-//Route 66 Car Club of Flagstaff - ECPv6.15.20//NONSGML v1.0//EN
CALSCALE:GREGORIAN
METHOD:PUBLISH
X-ORIGINAL-URL:https://route66carclub.org
X-WR-CALDESC:Events for Route 66 Car Club of Flagstaff
REFRESH-INTERVAL;VALUE=DURATION:PT1H
X-Robots-Tag:noindex
X-PUBLISHED-TTL:PT1H
BEGIN:VTIMEZONE
TZID:America/Phoenix
BEGIN:STANDARD
TZOFFSETFROM:-0700
TZOFFSETTO:-0700
TZNAME:MST
DTSTART:20210101T000000
END:STANDARD
END:VTIMEZONE
BEGIN:VEVENT
DTSTART;TZID=America/Phoenix:20220902T170000
DTEND;TZID=America/Phoenix:20220902T193000
DTSTAMP:20260419T180050
CREATED:20220725T220640Z
LAST-MODIFIED:20220725T220640Z
UID:10000355-1662138000-1662147000@route66carclub.org
SUMMARY:Fridays at Park Santa Fe
DESCRIPTION:Park Santa Fe Shopping Center (Harbor Freight) parking lot.  Cars to assemble near the road (East Route 66.)
URL:https://route66carclub.org/event/fridays-at-park-santa-fe-42/
LOCATION:Park Santa Fe Shopping Center\, 3500 E. Route 66\, Flagstaff\, AZ\, United States
END:VEVENT
BEGIN:VEVENT
DTSTART;TZID=America/Phoenix:20220907T180000
DTEND;TZID=America/Phoenix:20220907T190000
DTSTAMP:20260419T180050
CREATED:20220105T225830Z
LAST-MODIFIED:20220725T221540Z
UID:10000302-1662573600-1662577200@route66carclub.org
SUMMARY:September 2022 Route 66 Car Club of Flagstaff Board Meeting
DESCRIPTION:
URL:https://route66carclub.org/event/september-2022-route-66-car-club-of-flagstaff-board-meeting/
LOCATION:Mary’s Cafe\, 7136 N. Hwy 89\, Flagstaff\, AZ\, 86004\, United States
CATEGORIES:Board of Directors Events
END:VEVENT
BEGIN:VEVENT
DTSTART;TZID=America/Phoenix:20220909T170000
DTEND;TZID=America/Phoenix:20220909T193000
DTSTAMP:20260419T180050
CREATED:20220725T220902Z
LAST-MODIFIED:20220725T220902Z
UID:10000356-1662742800-1662751800@route66carclub.org
SUMMARY:Fridays at Park Santa Fe
DESCRIPTION:Park Santa Fe Shopping Center (Harbor Freight) parking lot.  Cars to assemble near the road (East Route 66.)
URL:https://route66carclub.org/event/fridays-at-park-santa-fe-43/
LOCATION:Park Santa Fe Shopping Center\, 3500 E. Route 66\, Flagstaff\, AZ\, United States
END:VEVENT
BEGIN:VEVENT
DTSTART;TZID=America/Phoenix:20220910T100000
DTEND;TZID=America/Phoenix:20220910T140000
DTSTAMP:20260419T180050
CREATED:20220810T214553Z
LAST-MODIFIED:20220810T214553Z
UID:10000361-1662804000-1662818400@route66carclub.org
SUMMARY:10th Annual HOPE FEST Arizona Car Show
DESCRIPTION:
URL:https://route66carclub.org/event/10th-annual-hope-fest-arizona-car-show/
LOCATION:Yavapai County Courthouse Plaza\, 120 S Cortez St\, Prescott\, AZ\, United States
END:VEVENT
BEGIN:VEVENT
DTSTART;TZID=America/Phoenix:20220914T180000
DTEND;TZID=America/Phoenix:20220914T190000
DTSTAMP:20260419T180050
CREATED:20220105T210937Z
LAST-MODIFIED:20220306T221140Z
UID:10000216-1663178400-1663182000@route66carclub.org
SUMMARY:September 2022 Route 66 Car Club of Flagstaff Membership Meeting
DESCRIPTION:
URL:https://route66carclub.org/event/september-2022-route-66-car-club-of-flagstaff-membership-meeting/
LOCATION:Robert’s Shop (Quality Automotive)\, 5301 E. Empire\, Flagstaff\, AZ\, United States
CATEGORIES:Member Events
END:VEVENT
BEGIN:VEVENT
DTSTART;TZID=America/Phoenix:20220916T170000
DTEND;TZID=America/Phoenix:20220916T193000
DTSTAMP:20260419T180050
CREATED:20220725T221019Z
LAST-MODIFIED:20220725T221019Z
UID:10000357-1663347600-1663356600@route66carclub.org
SUMMARY:Fridays at Park Santa Fe
DESCRIPTION:Park Santa Fe Shopping Center (Harbor Freight) parking lot.  Cars to assemble near the road (East Route 66.)
URL:https://route66carclub.org/event/fridays-at-park-santa-fe-44/
LOCATION:Park Santa Fe Shopping Center\, 3500 E. Route 66\, Flagstaff\, AZ\, United States
END:VEVENT
BEGIN:VEVENT
DTSTART;TZID=America/Phoenix:20220917T100000
DTEND;TZID=America/Phoenix:20220917T160000
DTSTAMP:20260419T180050
CREATED:20220115T212656Z
LAST-MODIFIED:20220306T221119Z
UID:10000310-1663408800-1663430400@route66carclub.org
SUMMARY:Club Cruise to Mormon Lake
DESCRIPTION:Meet at 10:00AM at N.E. Corner of Rt66 and Switzer. Wheels Roll at 10:30AM.\nOther Details (TBD).
URL:https://route66carclub.org/event/club-cruise-to-mormon-lake/
CATEGORIES:Member Events
END:VEVENT
BEGIN:VEVENT
DTSTART;TZID=America/Phoenix:20220922T080000
DTEND;TZID=America/Phoenix:20220924T170000
DTSTAMP:20260419T180050
CREATED:20220810T220627Z
LAST-MODIFIED:20220810T220627Z
UID:10000362-1663833600-1664038800@route66carclub.org
SUMMARY:16th Annual 2022 Corvette Car Show
DESCRIPTION:
URL:https://route66carclub.org/event/16th-annual-2022-corvette-car-show/
LOCATION:Yavapai County Courthouse Plaza\, 120 S Cortez St\, Prescott\, AZ\, United States
END:VEVENT
BEGIN:VEVENT
DTSTART;TZID=America/Phoenix:20220923T170000
DTEND;TZID=America/Phoenix:20220923T193000
DTSTAMP:20260419T180050
CREATED:20220725T221132Z
LAST-MODIFIED:20220725T221132Z
UID:10000358-1663952400-1663961400@route66carclub.org
SUMMARY:Fridays at Park Santa Fe
DESCRIPTION:Park Santa Fe Shopping Center (Harbor Freight) parking lot.  Cars to assemble near the road (East Route 66.)
URL:https://route66carclub.org/event/fridays-at-park-santa-fe-45/
LOCATION:Park Santa Fe Shopping Center\, 3500 E. Route 66\, Flagstaff\, AZ\, United States
END:VEVENT
BEGIN:VEVENT
DTSTART;TZID=America/Phoenix:20220924T090000
DTEND;TZID=America/Phoenix:20220924T140000
DTSTAMP:20260419T180050
CREATED:20220904T221532Z
LAST-MODIFIED:20220904T221532Z
UID:10000367-1664010000-1664028000@route66carclub.org
SUMMARY:Oktoberfest Car Show
DESCRIPTION:
URL:https://route66carclub.org/event/oktoberfest-car-show-2/
LOCATION:Galpin Auto & RV\, 925 State Highway 89A\, Cottonwood\, AZ\, United States
END:VEVENT
BEGIN:VEVENT
DTSTART;TZID=America/Phoenix:20220924T100000
DTEND;TZID=America/Phoenix:20220924T140000
DTSTAMP:20260419T180050
CREATED:20220725T223629Z
LAST-MODIFIED:20220725T223629Z
UID:10000360-1664013600-1664028000@route66carclub.org
SUMMARY:Sally B's Eleventh Fall Classic Car Show
DESCRIPTION:
URL:https://route66carclub.org/event/sally-bs-eleventh-fall-classic-car-show/
LOCATION:Sally B’s Cafe\, 7680 East Highway 69\, Prescott Valley\, AZ\, United States
END:VEVENT
BEGIN:VEVENT
DTSTART;TZID=America/Phoenix:20220930T100000
DTEND;TZID=America/Phoenix:20221001T160000
DTSTAMP:20260419T180050
CREATED:20220810T222106Z
LAST-MODIFIED:20220810T222106Z
UID:10000363-1664532000-1664640000@route66carclub.org
SUMMARY:27th Annual Just Cruis'n Car Club Car Show
DESCRIPTION:
URL:https://route66carclub.org/event/27th-annual-just-cruisn-car-club-car-show/
LOCATION:Standin’ on the Corner Park\, Corner of Kinsley &\, E 2nd St\, Winslow\, AZ\, United States
END:VEVENT
BEGIN:VEVENT
DTSTART;TZID=America/Phoenix:20220930T170000
DTEND;TZID=America/Phoenix:20220930T190000
DTSTAMP:20260419T180050
CREATED:20220725T221311Z
LAST-MODIFIED:20220725T221311Z
UID:10000359-1664557200-1664564400@route66carclub.org
SUMMARY:Fridays at Park Santa Fe
DESCRIPTION:Park Santa Fe Shopping Center (Harbor Freight) parking lot.  Cars to assemble near the road (East Route 66.)
URL:https://route66carclub.org/event/fridays-at-park-santa-fe-46/
LOCATION:Park Santa Fe Shopping Center\, 3500 E. Route 66\, Flagstaff\, AZ\, United States
END:VEVENT
END:VCALENDAR