BEGIN:VCALENDAR
VERSION:2.0
PRODID:-//Route 66 Car Club of Flagstaff - ECPv6.15.20//NONSGML v1.0//EN
CALSCALE:GREGORIAN
METHOD:PUBLISH
X-WR-CALNAME:Route 66 Car Club of Flagstaff
X-ORIGINAL-URL:https://route66carclub.org
X-WR-CALDESC:Events for Route 66 Car Club of Flagstaff
REFRESH-INTERVAL;VALUE=DURATION:PT1H
X-Robots-Tag:noindex
X-PUBLISHED-TTL:PT1H
BEGIN:VTIMEZONE
TZID:America/Phoenix
BEGIN:STANDARD
TZOFFSETFROM:-0700
TZOFFSETTO:-0700
TZNAME:MST
DTSTART:20210101T000000
END:STANDARD
END:VTIMEZONE
BEGIN:VEVENT
DTSTART;TZID=America/Phoenix:20220803T180000
DTEND;TZID=America/Phoenix:20220803T190000
DTSTAMP:20260419T193658
CREATED:20220105T225733Z
LAST-MODIFIED:20220706T161444Z
UID:10000301-1659549600-1659553200@route66carclub.org
SUMMARY:August 2022 Route 66 Car Club of Flagstaff Board Meeting
DESCRIPTION:
URL:https://route66carclub.org/event/august-2022-route-66-car-club-of-flagstaff-board-meeting/
LOCATION:Mary’s Cafe\, 7136 N. Hwy 89\, Flagstaff\, AZ\, 86004\, United States
CATEGORIES:Board of Directors Events
END:VEVENT
BEGIN:VEVENT
DTSTART;TZID=America/Phoenix:20220805T170000
DTEND;TZID=America/Phoenix:20220805T193000
DTSTAMP:20260419T193658
CREATED:20220725T220056Z
LAST-MODIFIED:20220725T220144Z
UID:10000352-1659718800-1659727800@route66carclub.org
SUMMARY:Fridays at Park Santa Fe
DESCRIPTION:Park Santa Fe Shopping Center (Harbor Freight) parking lot.  Cars to assemble near the road (East Route 66.)
URL:https://route66carclub.org/event/fridays-at-park-santa-fe-39/
LOCATION:Park Santa Fe Shopping Center\, 3500 E. Route 66\, Flagstaff\, AZ\, United States
END:VEVENT
BEGIN:VEVENT
DTSTART;TZID=America/Phoenix:20220806T080000
DTEND;TZID=America/Phoenix:20220807T150000
DTSTAMP:20260419T193658
CREATED:20220704T220547Z
LAST-MODIFIED:20220704T220547Z
UID:10000350-1659772800-1659884400@route66carclub.org
SUMMARY:PAAC Watson Lake Car and Truck Show
DESCRIPTION:
URL:https://route66carclub.org/event/paac-watson-lake-car-and-truck-show/
LOCATION:Watson Lake Park\, 3101 Watson Lake Road\, Prescott\, AZ\, United States
END:VEVENT
BEGIN:VEVENT
DTSTART;TZID=America/Phoenix:20220810T180000
DTEND;TZID=America/Phoenix:20220810T190000
DTSTAMP:20260419T193658
CREATED:20220105T210823Z
LAST-MODIFIED:20220306T221313Z
UID:10000215-1660154400-1660158000@route66carclub.org
SUMMARY:August 2022 Route 66 Car Club of Flagstaff Membership Meeting
DESCRIPTION:
URL:https://route66carclub.org/event/august-2022-route-66-car-club-of-flagstaff-membership-meeting/
LOCATION:Robert’s Shop (Quality Automotive)\, 5301 E. Empire\, Flagstaff\, AZ\, United States
CATEGORIES:Member Events
END:VEVENT
BEGIN:VEVENT
DTSTART;TZID=America/Phoenix:20220812T170000
DTEND;TZID=America/Phoenix:20220812T193000
DTSTAMP:20260419T193658
CREATED:20220725T220314Z
LAST-MODIFIED:20220725T220314Z
UID:10000353-1660323600-1660332600@route66carclub.org
SUMMARY:Fridays at Park Santa Fe
DESCRIPTION:Park Santa Fe Shopping Center (Harbor Freight) parking lot.  Cars to assemble near the road (East Route 66.)
URL:https://route66carclub.org/event/fridays-at-park-santa-fe-40/
LOCATION:Park Santa Fe Shopping Center\, 3500 E. Route 66\, Flagstaff\, AZ\, United States
END:VEVENT
BEGIN:VEVENT
DTSTART;TZID=America/Phoenix:20220819T170000
DTEND;TZID=America/Phoenix:20220819T193000
DTSTAMP:20260419T193658
CREATED:20220725T220444Z
LAST-MODIFIED:20220725T220444Z
UID:10000354-1660928400-1660937400@route66carclub.org
SUMMARY:Fridays at Park Santa Fe
DESCRIPTION:Park Santa Fe Shopping Center (Harbor Freight) parking lot.  Cars to assemble near the road (East Route 66.)
URL:https://route66carclub.org/event/fridays-at-park-santa-fe-41/
LOCATION:Park Santa Fe Shopping Center\, 3500 E. Route 66\, Flagstaff\, AZ\, United States
END:VEVENT
BEGIN:VEVENT
DTSTART;TZID=America/Phoenix:20220826T080000
DTEND;TZID=America/Phoenix:20220826T190000
DTSTAMP:20260419T193658
CREATED:20220821T231415Z
LAST-MODIFIED:20220824T215811Z
UID:10000365-1661500800-1661540400@route66carclub.org
SUMMARY:Route 66 Car Club of Flagstaff Annual Historic Poker Rally
DESCRIPTION:Route 66 Car Club of Flagstaff Poker Run Flyer
URL:https://route66carclub.org/event/route-66-car-club-of-flagstaff-annual-historic-poker-rally/
LOCATION:Park Santa Fe Shopping Center\, 3500 E. Route 66\, Flagstaff\, AZ\, United States
CATEGORIES:Member Events
END:VEVENT
BEGIN:VEVENT
DTSTART;TZID=America/Phoenix:20220826T170000
DTEND;TZID=America/Phoenix:20220826T190000
DTSTAMP:20260419T193658
CREATED:20220824T220123Z
LAST-MODIFIED:20220824T220243Z
UID:10000366-1661533200-1661540400@route66carclub.org
SUMMARY:Fridays at Park Santa Fe
DESCRIPTION:Park Santa Fe Shopping Center (Harbor Freight) parking lot.  Cars to assemble near the road (East Route 66.)
URL:https://route66carclub.org/event/fridays-at-park-santa-fe-47/
LOCATION:Park Santa Fe Shopping Center\, 3500 E. Route 66\, Flagstaff\, AZ\, United States
END:VEVENT
BEGIN:VEVENT
DTSTART;TZID=America/Phoenix:20220827T080000
DTEND;TZID=America/Phoenix:20220827T150000
DTSTAMP:20260419T193658
CREATED:20220115T213719Z
LAST-MODIFIED:20220821T230628Z
UID:10000313-1661587200-1661612400@route66carclub.org
SUMMARY:3rd Annual Route 66 Car Club of Flagstaff Charity Car Show at Thunder Over Flagstaff
DESCRIPTION:2022 TOF Car Show Flyer \n2022 TOF Car Show Registration Form \nATTENTION: Those trailering a vehicle to the show must drop off the show vehicle and then park the other car and trailer at Fort Tuthill County Park.   Those just attending Thunder Over Flagstaff and/or the Car Show should park at Fort Tuthill.  Shuttle busses will run to and from Thunder Over Flagstaff and the Car Show from Fort Tuthill.
URL:https://route66carclub.org/event/3rd-annual-route-66-car-club-of-flagstaff-charity-car-show-at-thunder-over-flagstaff/
LOCATION:Flagstaff Pullium Airport\, 6200 S Pulliam Drive\, Flagstaff\, AZ\, United States
CATEGORIES:Member Events
END:VEVENT
END:VCALENDAR