BEGIN:VCALENDAR
VERSION:2.0
PRODID:-//Route 66 Car Club of Flagstaff - ECPv6.15.20//NONSGML v1.0//EN
CALSCALE:GREGORIAN
METHOD:PUBLISH
X-WR-CALNAME:Route 66 Car Club of Flagstaff
X-ORIGINAL-URL:https://route66carclub.org
X-WR-CALDESC:Events for Route 66 Car Club of Flagstaff
REFRESH-INTERVAL;VALUE=DURATION:PT1H
X-Robots-Tag:noindex
X-PUBLISHED-TTL:PT1H
BEGIN:VTIMEZONE
TZID:America/Phoenix
BEGIN:STANDARD
TZOFFSETFROM:-0700
TZOFFSETTO:-0700
TZNAME:MST
DTSTART:20210101T000000
END:STANDARD
END:VTIMEZONE
BEGIN:VEVENT
DTSTART;TZID=America/Phoenix:20220601T180000
DTEND;TZID=America/Phoenix:20220601T190000
DTSTAMP:20260419T225958
CREATED:20220105T225528Z
LAST-MODIFIED:20220306T221603Z
UID:10000299-1654106400-1654110000@route66carclub.org
SUMMARY:June 2022 Route 66 Car Club of Flagstaff Board Meeting
DESCRIPTION:
URL:https://route66carclub.org/event/june-2022-route-66-car-club-of-flagstaff-board-meeting/
LOCATION:TBD\, United States
CATEGORIES:Board of Directors Events
END:VEVENT
BEGIN:VEVENT
DTSTART;TZID=America/Phoenix:20220603T120000
DTEND;TZID=America/Phoenix:20220604T150000
DTSTAMP:20260419T225958
CREATED:20220403T215428Z
LAST-MODIFIED:20220403T220132Z
UID:10000326-1654257600-1654354800@route66carclub.org
SUMMARY:2022 Cruz'n The Rim Car Show
DESCRIPTION:
URL:https://route66carclub.org/event/2022-cruzn-the-rim-car-show/
LOCATION:Frontier Park\, 600 N. 9th Place\, Show Low\, AZ\, United States
END:VEVENT
BEGIN:VEVENT
DTSTART;TZID=America/Phoenix:20220603T170000
DTEND;TZID=America/Phoenix:20220603T193000
DTSTAMP:20260419T225958
CREATED:20220513T220651Z
LAST-MODIFIED:20220513T220658Z
UID:10000339-1654275600-1654284600@route66carclub.org
SUMMARY:Fridays at Park Santa Fe
DESCRIPTION:Park Santa Fe Shopping Center (Harbor Freight) parking lot.  Cars to assemble near the road (East Route 66.)
URL:https://route66carclub.org/event/fridays-at-park-sant-fe/
LOCATION:Park Santa Fe Shopping Center\, 3500 E. Route 66\, Flagstaff\, AZ\, United States
END:VEVENT
BEGIN:VEVENT
DTSTART;TZID=America/Phoenix:20220608T180000
DTEND;TZID=America/Phoenix:20220608T190000
DTSTAMP:20260419T225958
CREATED:20220105T210549Z
LAST-MODIFIED:20220306T221547Z
UID:10000213-1654711200-1654714800@route66carclub.org
SUMMARY:June 2022 Route 66 Car Club of Flagstaff Membership Meeting
DESCRIPTION:
URL:https://route66carclub.org/event/june-2022-route-66-car-club-of-flagstaff-membership-meeting/
LOCATION:Robert’s Shop (Quality Automotive)\, 5301 E. Empire\, Flagstaff\, AZ\, United States
CATEGORIES:Member Events
END:VEVENT
BEGIN:VEVENT
DTSTART;TZID=America/Phoenix:20220610T110000
DTEND;TZID=America/Phoenix:20220611T230000
DTSTAMP:20260419T225958
CREATED:20210721T181452Z
LAST-MODIFIED:20220306T212903Z
UID:10000270-1654858800-1654988400@route66carclub.org
SUMMARY:7th Annual Williams Historic Route 66 Car & Truck Show
DESCRIPTION:
URL:https://route66carclub.org/event/7th-annual-williams-historic-route-66-car-show/
LOCATION:williamshistoricroute66carshow\, Williams\, AZ\, United States
ORGANIZER;CN="American Legion%2C Cordova Post 13":MAILTO:williamshistoricroute66carshow@gmail.com
END:VEVENT
BEGIN:VEVENT
DTSTART;TZID=America/Phoenix:20220610T170000
DTEND;TZID=America/Phoenix:20220610T193000
DTSTAMP:20260419T225958
CREATED:20220513T220843Z
LAST-MODIFIED:20220513T220843Z
UID:10000340-1654880400-1654889400@route66carclub.org
SUMMARY:Fridays at Park Santa Fe
DESCRIPTION:Park Santa Fe Shopping Center (Harbor Freight) parking lot.  Cars to assemble near the road (East Route 66.)
URL:https://route66carclub.org/event/fridays-at-park-santa-fe-31/
LOCATION:Park Santa Fe Shopping Center\, 3500 E. Route 66\, Flagstaff\, AZ\, United States
END:VEVENT
BEGIN:VEVENT
DTSTART;TZID=America/Phoenix:20220611T110000
DTEND;TZID=America/Phoenix:20220611T150000
DTSTAMP:20260419T225958
CREATED:20220227T184419Z
LAST-MODIFIED:20220306T212831Z
UID:10000324-1654945200-1654959600@route66carclub.org
SUMMARY:Summer 2022 Car Show - Carlitos Cafe and Coffee House
DESCRIPTION:
URL:https://route66carclub.org/event/summer-2022-car-show-carlitos-cafe-and-coffee-house/
LOCATION:Carlitos Cafe and Coffee House\, 6719 East 2nd Street\, Suite C\, Prescott Valley\, AZ\, United States
END:VEVENT
BEGIN:VEVENT
DTSTART;TZID=America/Phoenix:20220617T170000
DTEND;TZID=America/Phoenix:20220617T193000
DTSTAMP:20260419T225958
CREATED:20220513T221024Z
LAST-MODIFIED:20220513T221024Z
UID:10000341-1655485200-1655494200@route66carclub.org
SUMMARY:Fridays at Park Santa Fe
DESCRIPTION:Park Santa Fe Shopping Center (Harbor Freight) parking lot.  Cars to assemble near the road (East Route 66.)
URL:https://route66carclub.org/event/fridays-at-park-santa-fe-32/
LOCATION:Park Santa Fe Shopping Center\, 3500 E. Route 66\, Flagstaff\, AZ\, United States
END:VEVENT
BEGIN:VEVENT
DTSTART;TZID=America/Phoenix:20220618T100000
DTEND;TZID=America/Phoenix:20220618T160000
DTSTAMP:20260419T225958
CREATED:20220115T212241Z
LAST-MODIFIED:20220306T221525Z
UID:10000308-1655546400-1655568000@route66carclub.org
SUMMARY:Club Cruise to Payson -- No Host Lunch @ Old Country Inn -- Pine\, AZ
DESCRIPTION:Meet at 10:00AM at N.E. Corner of Rt66 and Switzer. Wheels Roll at 10:30AM.\nOther Details (TBD).
URL:https://route66carclub.org/event/club-cruise-to-payson-no-host-lunch-old-country-inn-pine-az/
LOCATION:Old Country Inn\, 3502 AZ-87\, Pine\, AZ\, 85544\, United States
CATEGORIES:Member Events
END:VEVENT
BEGIN:VEVENT
DTSTART;TZID=America/Phoenix:20220619T100000
DTEND;TZID=America/Phoenix:20220619T150000
DTSTAMP:20260419T225958
CREATED:20220508T212942Z
LAST-MODIFIED:20220508T212942Z
UID:10000337-1655632800-1655650800@route66carclub.org
SUMMARY:Cars and Cowboys at the Blazin' M Ranch
DESCRIPTION:
URL:https://route66carclub.org/event/cars-and-cowboys-at-the-blazin-m-ranch/
LOCATION:BlazinM Ranch\, 1875 Mabery Ranch Road\, Cottonwood\, AZ\, United States
END:VEVENT
BEGIN:VEVENT
DTSTART;TZID=America/Phoenix:20220624T170000
DTEND;TZID=America/Phoenix:20220624T200000
DTSTAMP:20260419T225958
CREATED:20220513T221153Z
LAST-MODIFIED:20220513T221153Z
UID:10000342-1656090000-1656100800@route66carclub.org
SUMMARY:Fridays at Park Santa Fe
DESCRIPTION:Park Santa Fe Shopping Center (Harbor Freight) parking lot.  Cars to assemble near the road (East Route 66.)
URL:https://route66carclub.org/event/fridays-at-park-santa-fe-33/
LOCATION:Park Santa Fe Shopping Center\, 3500 E. Route 66\, Flagstaff\, AZ\, United States
END:VEVENT
BEGIN:VEVENT
DTSTART;TZID=America/Phoenix:20220626T120000
DTEND;TZID=America/Phoenix:20220626T140000
DTSTAMP:20260419T225958
CREATED:20220607T224231Z
LAST-MODIFIED:20220607T231845Z
UID:10000348-1656244800-1656252000@route66carclub.org
SUMMARY:Rt 66 Car Club Annual Picnic 2022
DESCRIPTION:Rt 66 Car Club Summer 2022 BBQ
URL:https://route66carclub.org/event/rt-66-car-club-annual-picnic-2022/
LOCATION:Bushmaster Park\, 3150 N Alta Vista Dr\, Flagstaff\, AZ\, 86004\, United States
CATEGORIES:Member Events
END:VEVENT
END:VCALENDAR