BEGIN:VCALENDAR
VERSION:2.0
PRODID:-//Route 66 Car Club of Flagstaff - ECPv6.15.20//NONSGML v1.0//EN
CALSCALE:GREGORIAN
METHOD:PUBLISH
X-ORIGINAL-URL:https://route66carclub.org
X-WR-CALDESC:Events for Route 66 Car Club of Flagstaff
REFRESH-INTERVAL;VALUE=DURATION:PT1H
X-Robots-Tag:noindex
X-PUBLISHED-TTL:PT1H
BEGIN:VTIMEZONE
TZID:America/Phoenix
BEGIN:STANDARD
TZOFFSETFROM:-0700
TZOFFSETTO:-0700
TZNAME:MST
DTSTART:20210101T000000
END:STANDARD
END:VTIMEZONE
BEGIN:VEVENT
DTSTART;TZID=America/Phoenix:20220406T180000
DTEND;TZID=America/Phoenix:20220406T190000
DTSTAMP:20260420T023408
CREATED:20220105T225313Z
LAST-MODIFIED:20220405T225201Z
UID:10000295-1649268000-1649271600@route66carclub.org
SUMMARY:April 2022 Route 66 Car Club of Flagstaff Board Meeting
DESCRIPTION:
URL:https://route66carclub.org/event/april-2022-route-66-car-club-of-flagstaff-board-meeting/
LOCATION:Mary’s Cafe\, 7136 N. Hwy 89\, Flagstaff\, AZ\, 86004\, United States
CATEGORIES:Board of Directors Events
END:VEVENT
BEGIN:VEVENT
DTSTART;TZID=America/Phoenix:20220413T180000
DTEND;TZID=America/Phoenix:20220413T190000
DTSTAMP:20260420T023408
CREATED:20220105T210136Z
LAST-MODIFIED:20220306T221841Z
UID:10000211-1649872800-1649876400@route66carclub.org
SUMMARY:April 2022 Route 66 Car Club of Flagstaff Membership Meeting
DESCRIPTION:
URL:https://route66carclub.org/event/april-2022-route-66-car-club-of-flagstaff-membership-meeting/
LOCATION:Robert’s Shop (Quality Automotive)\, 5301 E. Empire\, Flagstaff\, AZ\, United States
CATEGORIES:Member Events
END:VEVENT
BEGIN:VEVENT
DTSTART;TZID=America/Phoenix:20220415T163000
DTEND;TZID=America/Phoenix:20220415T190000
DTSTAMP:20260420T023408
CREATED:20220415T182318Z
LAST-MODIFIED:20220415T182318Z
UID:10000327-1650040200-1650049200@route66carclub.org
SUMMARY:Fridays at Park Santa Fe
DESCRIPTION:Park Santa Fe Shopping Center (Harbor Freight) parking lot.  Cars to assemble near the road (East Route 66.)
URL:https://route66carclub.org/event/fridays-at-park-santa-fe-24/
LOCATION:Park Santa Fe Shopping Center\, 3500 E. Route 66\, Flagstaff\, AZ\, United States
END:VEVENT
BEGIN:VEVENT
DTSTART;TZID=America/Phoenix:20220416T100000
DTEND;TZID=America/Phoenix:20220416T160000
DTSTAMP:20260420T023408
CREATED:20220115T211216Z
LAST-MODIFIED:20220306T221820Z
UID:10000306-1650103200-1650124800@route66carclub.org
SUMMARY:Club Cruise to Cottonwood and Vineyards
DESCRIPTION:Meet at 10:00AM at N.E. Corner of Rt66 and Switzer. Wheels Roll at 10:30AM.\nOther Details (TBD).
URL:https://route66carclub.org/event/club-cruise-to-cottonwood-and-vineyards/
CATEGORIES:Member Events
END:VEVENT
BEGIN:VEVENT
DTSTART;TZID=America/Phoenix:20220422T163000
DTEND;TZID=America/Phoenix:20220422T190000
DTSTAMP:20260420T023408
CREATED:20220419T231142Z
LAST-MODIFIED:20220419T231332Z
UID:10000328-1650645000-1650654000@route66carclub.org
SUMMARY:Fridays at Park Santa Fe
DESCRIPTION:Park Santa Fe Shopping Center (Harbor Freight) parking lot.  Cars to assemble near the road (East Route 66.)
URL:https://route66carclub.org/event/fridays-at-park-santa-fe-25/
LOCATION:Park Santa Fe Shopping Center\, 3500 E. Route 66\, Flagstaff\, AZ\, United States
END:VEVENT
BEGIN:VEVENT
DTSTART;VALUE=DATE:20220429
DTEND;VALUE=DATE:20220502
DTSTAMP:20260420T023408
CREATED:20220115T215307Z
LAST-MODIFIED:20220306T213446Z
UID:10000315-1651190400-1651449599@route66carclub.org
SUMMARY:33rd Annual Historic Route 66 Fun Run
DESCRIPTION:
URL:https://route66carclub.org/event/33rd-annual-historic-route-66-fun-run/
END:VEVENT
BEGIN:VEVENT
DTSTART;TZID=America/Phoenix:20220429T163000
DTEND;TZID=America/Phoenix:20220429T190000
DTSTAMP:20260420T023408
CREATED:20220419T231453Z
LAST-MODIFIED:20220419T231453Z
UID:10000329-1651249800-1651258800@route66carclub.org
SUMMARY:Fridays at Park Santa Fe
DESCRIPTION:Park Santa Fe Shopping Center (Harbor Freight) parking lot.  Cars to assemble near the road (East Route 66.)
URL:https://route66carclub.org/event/fridays-at-park-santa-fe-26/
LOCATION:Park Santa Fe Shopping Center\, 3500 E. Route 66\, Flagstaff\, AZ\, United States
END:VEVENT
BEGIN:VEVENT
DTSTART;TZID=America/Phoenix:20220430T080000
DTEND;TZID=America/Phoenix:20220430T160000
DTSTAMP:20260420T023408
CREATED:20220115T220046Z
LAST-MODIFIED:20220306T213409Z
UID:10000316-1651305600-1651334400@route66carclub.org
SUMMARY:April Action Moab Car Show
DESCRIPTION:
URL:https://route66carclub.org/event/april-action-moab-car-show/
LOCATION:Swanny City Park\, 400 N 100 W\, Moab\, UT\, United States
END:VEVENT
BEGIN:VEVENT
DTSTART;TZID=America/Phoenix:20220430T100000
DTEND;TZID=America/Phoenix:20220430T150000
DTSTAMP:20260420T023408
CREATED:20220211T181408Z
LAST-MODIFIED:20220306T213340Z
UID:10000321-1651312800-1651330800@route66carclub.org
SUMMARY:Orchard Ranch Resort Car Show & Craft Fair
DESCRIPTION:
URL:https://route66carclub.org/event/orchard-ranch-resort-car-show-craft-fair/
LOCATION:Orchard Ranch Resort\, 11250 E. State Route 69\, Prescott Valley\, AZ\, United States
END:VEVENT
END:VCALENDAR