BEGIN:VCALENDAR
VERSION:2.0
PRODID:-//Route 66 Car Club of Flagstaff - ECPv6.15.20//NONSGML v1.0//EN
CALSCALE:GREGORIAN
METHOD:PUBLISH
X-WR-CALNAME:Route 66 Car Club of Flagstaff
X-ORIGINAL-URL:https://route66carclub.org
X-WR-CALDESC:Events for Route 66 Car Club of Flagstaff
REFRESH-INTERVAL;VALUE=DURATION:PT1H
X-Robots-Tag:noindex
X-PUBLISHED-TTL:PT1H
BEGIN:VTIMEZONE
TZID:America/Phoenix
BEGIN:STANDARD
TZOFFSETFROM:-0700
TZOFFSETTO:-0700
TZNAME:MST
DTSTART:20210101T000000
END:STANDARD
END:VTIMEZONE
BEGIN:VEVENT
DTSTART;TZID=America/Phoenix:20220302T180000
DTEND;TZID=America/Phoenix:20220302T190000
DTSTAMP:20260420T041429
CREATED:20220105T225157Z
LAST-MODIFIED:20220306T220510Z
UID:10000293-1646244000-1646247600@route66carclub.org
SUMMARY:March 2022 Route 66 Car Club of Flagstaff Board Meeting
DESCRIPTION:
URL:https://route66carclub.org/event/march-2022-route-66-car-club-of-flagstaff-board-meeting/
LOCATION:Mary’s Cafe\, 7136 N. Hwy 89\, Flagstaff\, AZ\, 86004\, United States
CATEGORIES:Board of Directors Events
END:VEVENT
BEGIN:VEVENT
DTSTART;TZID=America/Phoenix:20220305T090000
DTEND;TZID=America/Phoenix:20220305T140000
DTSTAMP:20260420T041429
CREATED:20220122T215111Z
LAST-MODIFIED:20220122T215111Z
UID:10000318-1646470800-1646488800@route66carclub.org
SUMMARY:Martin Auto Museum Grand Reopening Car Show
DESCRIPTION:
URL:https://route66carclub.org/event/martin-auto-museum-grand-reopening-car-show/
LOCATION:Martin Auto Museum\, 4320 W. Thunderbird\, Glendale\, AZ\, United States
END:VEVENT
BEGIN:VEVENT
DTSTART;TZID=America/Phoenix:20220309T180000
DTEND;TZID=America/Phoenix:20220309T190000
DTSTAMP:20260420T041429
CREATED:20220105T205942Z
LAST-MODIFIED:20220306T222005Z
UID:10000210-1646848800-1646852400@route66carclub.org
SUMMARY:March 2022 Route 66 Car Club of Flagstaff Membership Meeting
DESCRIPTION:
URL:https://route66carclub.org/event/march-2022-route-66-car-club-of-flagstaff-membership-meeting/
LOCATION:Robert’s Shop (Quality Automotive)\, 5301 E. Empire\, Flagstaff\, AZ\, United States
CATEGORIES:Member Events
END:VEVENT
BEGIN:VEVENT
DTSTART;TZID=America/Phoenix:20220312T090000
DTEND;TZID=America/Phoenix:20220312T140000
DTSTAMP:20260420T041429
CREATED:20220105T231142Z
LAST-MODIFIED:20220306T213801Z
UID:10000305-1647075600-1647093600@route66carclub.org
SUMMARY:11th Clarkdale Car Show
DESCRIPTION:Registration form – Clarkdale Car Show 2022
URL:https://route66carclub.org/event/11th-clarkdale-car-show/
LOCATION:Historic Downtown Clarkdale\, Clarkdale Town Hall Complex\, Main Street\, Clarkdale\, AZ\, United States
ORGANIZER;CN="Clarkdale Downtown Business Alliance and the Clarkdale Foundation":MAILTO:info@clarkdalecarshow.com
END:VEVENT
BEGIN:VEVENT
DTSTART;TZID=America/Phoenix:20220319T100000
DTEND;TZID=America/Phoenix:20220319T140000
DTSTAMP:20260420T041429
CREATED:20220217T215034Z
LAST-MODIFIED:20220310T175718Z
UID:10000322-1647684000-1647698400@route66carclub.org
SUMMARY:Club Cruise to Williams
DESCRIPTION:Meet at 10:00AM at N.E. Corner of Rt66 and Switzer. Wheels Roll at 10:30AM. \nI-40 and Rte. 66 West to Williams for a no-host lunch \nRoute 66 Car Club March 2022 Cruise to Williams
URL:https://route66carclub.org/event/club-cruise-to-williams/
CATEGORIES:Member Events
END:VEVENT
BEGIN:VEVENT
DTSTART;TZID=America/Phoenix:20220325T100000
DTEND;TZID=America/Phoenix:20220325T140000
DTSTAMP:20260420T041429
CREATED:20220202T221837Z
LAST-MODIFIED:20220313T225219Z
UID:10000319-1648202400-1648216800@route66carclub.org
SUMMARY:Tri-City Car Show
DESCRIPTION:
URL:https://route66carclub.org/event/tri-city-car-show/
LOCATION:Tri-City College Prep High School\, 5522 Side Road\, Prescott\, AZ\, United States
END:VEVENT
END:VCALENDAR