BEGIN:VCALENDAR
VERSION:2.0
PRODID:-//Route 66 Car Club of Flagstaff - ECPv6.15.20//NONSGML v1.0//EN
CALSCALE:GREGORIAN
METHOD:PUBLISH
X-WR-CALNAME:Route 66 Car Club of Flagstaff
X-ORIGINAL-URL:https://route66carclub.org
X-WR-CALDESC:Events for Route 66 Car Club of Flagstaff
REFRESH-INTERVAL;VALUE=DURATION:PT1H
X-Robots-Tag:noindex
X-PUBLISHED-TTL:PT1H
BEGIN:VTIMEZONE
TZID:America/Phoenix
BEGIN:STANDARD
TZOFFSETFROM:-0700
TZOFFSETTO:-0700
TZNAME:MST
DTSTART:20210101T000000
END:STANDARD
END:VTIMEZONE
BEGIN:VEVENT
DTSTART;TZID=America/Phoenix:20220202T180000
DTEND;TZID=America/Phoenix:20220202T190000
DTSTAMP:20260420T055447
CREATED:20220105T225045Z
LAST-MODIFIED:20220131T213339Z
UID:10000290-1643824800-1643828400@route66carclub.org
SUMMARY:February 2022 Route 66 Car Club of Flagstaff Board Meeting
DESCRIPTION:
URL:https://route66carclub.org/event/february-2022-route-66-car-club-of-flagstaff-board-meeting/
LOCATION:Mary’s Cafe\, 7136 N. Hwy 89\, Flagstaff\, AZ\, 86004\, United States
CATEGORIES:Member Events
END:VEVENT
BEGIN:VEVENT
DTSTART;TZID=America/Phoenix:20220209T180000
DTEND;TZID=America/Phoenix:20220209T190000
DTSTAMP:20260420T055447
CREATED:20220105T205739Z
LAST-MODIFIED:20220110T175935Z
UID:10000209-1644429600-1644433200@route66carclub.org
SUMMARY:February 2022 Route 66 Car Club of Flagstaff Membership Meeting
DESCRIPTION:
URL:https://route66carclub.org/event/february-2022-route-66-car-club-of-flagstaff-membership-meeting/
LOCATION:Robert’s Shop (Quality Automotive)\, 5301 E. Empire\, Flagstaff\, AZ\, United States
CATEGORIES:Member Events
END:VEVENT
BEGIN:VEVENT
DTSTART;TZID=America/Phoenix:20220212T100000
DTEND;TZID=America/Phoenix:20220212T150000
DTSTAMP:20260420T055447
CREATED:20211202T230241Z
LAST-MODIFIED:20220306T213956Z
UID:10000286-1644660000-1644678000@route66carclub.org
SUMMARY:8th Annual Concours in the Hills
DESCRIPTION:If you have never been to this show\, it is the best one in Arizona. Some amazing cars – drivers\, show and even race cars. The food was amazing. Even had tables and tablecloths. Comments from Joe Policastro.
URL:https://route66carclub.org/event/8th-annual-concours-in-the-hills/
LOCATION:Fountain Park\, 12925 N Saguaro Blvd\, Fountain Hills\, AZ\, 85268\, United States
END:VEVENT
BEGIN:VEVENT
DTSTART;TZID=America/Phoenix:20220219T100000
DTEND;TZID=America/Phoenix:20220219T123000
DTSTAMP:20260420T055447
CREATED:20220122T213710Z
LAST-MODIFIED:20220306T213930Z
UID:10000317-1645264800-1645273800@route66carclub.org
SUMMARY:First Club Cruise of 2022 -- Flagstaff Local
DESCRIPTION:Meet at 10:00AM at N.E. Corner of Rt66 and Switzer. Wheels Roll at 10:30AM. \nFirst Club Cruise of 2022 – Flagstaff Local\nWeather Permitting
URL:https://route66carclub.org/event/first-club-cruise-of-2022-downtown-flagstaff/
END:VEVENT
END:VCALENDAR