BEGIN:VCALENDAR
VERSION:2.0
PRODID:-//Route 66 Car Club of Flagstaff - ECPv6.15.20//NONSGML v1.0//EN
CALSCALE:GREGORIAN
METHOD:PUBLISH
X-ORIGINAL-URL:https://route66carclub.org
X-WR-CALDESC:Events for Route 66 Car Club of Flagstaff
REFRESH-INTERVAL;VALUE=DURATION:PT1H
X-Robots-Tag:noindex
X-PUBLISHED-TTL:PT1H
BEGIN:VTIMEZONE
TZID:America/Phoenix
BEGIN:STANDARD
TZOFFSETFROM:-0700
TZOFFSETTO:-0700
TZNAME:MST
DTSTART:20200101T000000
END:STANDARD
END:VTIMEZONE
BEGIN:VEVENT
DTSTART;TZID=America/Phoenix:20210602T180000
DTEND;TZID=America/Phoenix:20210602T190000
DTSTAMP:20260420T201711
CREATED:20210507T225707Z
LAST-MODIFIED:20210530T233400Z
UID:10000235-1622656800-1622660400@route66carclub.org
SUMMARY:Route 66 Car Club of Flagstaff Board Meeting
DESCRIPTION:Remote attendance is now possible! To join the meeting from your\ncomputer\, tablet or smartphone:\nhttps://global.gotomeeting.com/join/246306013 \nYou can also dial in using your phone.\nUnited States: +1 (646) 749-3122- One-touch:\ntel:+16467493122\,\,246306013#\nAccess Code: 246-306-013
URL:https://route66carclub.org/event/route-66-car-club-of-flagstaff-board-meeting/
LOCATION:Mary’s Cafe\, 7136 N. Hwy 89\, Flagstaff\, AZ\, 86004\, United States
END:VEVENT
BEGIN:VEVENT
DTSTART;TZID=America/Phoenix:20210604T120000
DTEND;TZID=America/Phoenix:20210605T160000
DTSTAMP:20260420T201711
CREATED:20210507T223022Z
LAST-MODIFIED:20210507T223022Z
UID:10000232-1622808000-1622908800@route66carclub.org
SUMMARY:2021 Cruz'n the Rim Car Show
DESCRIPTION:
URL:https://route66carclub.org/event/2021-cruzn-the-rim-car-show/
LOCATION:Frontier Fields\, 600 N. 9th Place\, Show Low\, AZ\, United States
END:VEVENT
BEGIN:VEVENT
DTSTART;TZID=America/Phoenix:20210604T170000
DTEND;TZID=America/Phoenix:20210604T200000
DTSTAMP:20260420T201711
CREATED:20210526T223610Z
LAST-MODIFIED:20210526T223610Z
UID:10000238-1622826000-1622836800@route66carclub.org
SUMMARY:Fridays at Park Santa Fe
DESCRIPTION:Park Santa Fe Shopping Center (Harbor Freight) parking lot.  Cars to assemble near the road (East Route 66.)
URL:https://route66carclub.org/event/fridays-at-park-santa-fe-2/
LOCATION:Park Santa Fe Shopping Center\, 3500 E. Route 66\, Flagstaff\, AZ\, United States
END:VEVENT
BEGIN:VEVENT
DTSTART;TZID=America/Phoenix:20210605T080000
DTEND;TZID=America/Phoenix:20210605T140000
DTSTAMP:20260420T201711
CREATED:20210512T203312Z
LAST-MODIFIED:20210512T203312Z
UID:10000236-1622880000-1622901600@route66carclub.org
SUMMARY:Munds Park Rv Annual Car Show
DESCRIPTION:
URL:https://route66carclub.org/event/munds-park-rv-annual-car-show/
LOCATION:Munds Park Rv Resort\, 17750 Munds Ranch Road\, Munds Park\, AZ\, 86017\, United States
END:VEVENT
BEGIN:VEVENT
DTSTART;TZID=America/Phoenix:20210609T180000
DTEND;TZID=America/Phoenix:20210609T190000
DTSTAMP:20260420T201711
CREATED:20210427T221853Z
LAST-MODIFIED:20210427T222000Z
UID:10000220-1623261600-1623265200@route66carclub.org
SUMMARY:June Membership Meeting
DESCRIPTION:Remote attendance is now possible! To join the meeting from your\ncomputer\, tablet or smartphone:\nhttps://global.gotomeeting.com/join/246306013 \nYou can also dial in using your phone.\nUnited States: +1 (646) 749-3122- One-touch:\ntel:+16467493122\,\,246306013#\nAccess Code: 246-306-013
URL:https://route66carclub.org/event/271/
LOCATION:Robert’s Shop (Quality Automotive)\, 5301 E. Empire\, Flagstaff\, AZ\, United States
END:VEVENT
BEGIN:VEVENT
DTSTART;TZID=America/Phoenix:20210611T110000
DTEND;TZID=America/Phoenix:20210612T230000
DTSTAMP:20260420T201711
CREATED:20210507T223855Z
LAST-MODIFIED:20210507T223855Z
UID:10000233-1623409200-1623538800@route66carclub.org
SUMMARY:6th Annual Williams Historic Route 66 Car\, Truck & Motorcycle Show
DESCRIPTION:
URL:https://route66carclub.org/event/6th-annual-williams-historic-route-66-car-truck-motorcycle-show/
LOCATION:williamshistoricroute66carshow\, Williams\, AZ\, United States
ORGANIZER;CN="American Legion%2C Cordova Post 13":MAILTO:williamshistoricroute66carshow@gmail.com
END:VEVENT
BEGIN:VEVENT
DTSTART;TZID=America/Phoenix:20210611T170000
DTEND;TZID=America/Phoenix:20210611T200000
DTSTAMP:20260420T201711
CREATED:20210605T183819Z
LAST-MODIFIED:20210605T183819Z
UID:10000247-1623430800-1623441600@route66carclub.org
SUMMARY:Fridays at Park Santa Fe
DESCRIPTION:Park Santa Fe Shopping Center (Harbor Freight) parking lot.  Cars to assemble near the road (East Route 66.)
URL:https://route66carclub.org/event/fridays-at-park-santa-fe-3/
LOCATION:Park Santa Fe Shopping Center\, 3500 E. Route 66\, Flagstaff\, AZ\, United States
END:VEVENT
BEGIN:VEVENT
DTSTART;TZID=America/Phoenix:20210612T100000
DTEND;TZID=America/Phoenix:20210612T140000
DTSTAMP:20260420T201711
CREATED:20210507T224723Z
LAST-MODIFIED:20210507T224723Z
UID:10000234-1623492000-1623506400@route66carclub.org
SUMMARY:Veterans of Foreign Wars Mingus Mountain Post 10227 Car Show
DESCRIPTION:
URL:https://route66carclub.org/event/veterans-of-foreign-wars-mingus-mountain-post-10227-car-show/
LOCATION:Veterans of Foreign Wars Mingus Mountain Post 10227\, 2375 N. 5th Street\, Prescott Valley\, AZ\, United States
END:VEVENT
BEGIN:VEVENT
DTSTART;TZID=America/Phoenix:20210618T170000
DTEND;TZID=America/Phoenix:20210618T180000
DTSTAMP:20260420T201711
CREATED:20210605T183949Z
LAST-MODIFIED:20210616T233057Z
UID:10000248-1624035600-1624039200@route66carclub.org
SUMMARY:Fridays at Park Santa Fe
DESCRIPTION:Park Santa Fe Shopping Center (Harbor Freight) parking lot.  Cars to assemble near the road (East Route 66.) \nGather at 5:00 PM then ride over as group to the Doney Park Food Truck Roundup or just drive over yourself!!
URL:https://route66carclub.org/event/fridays-at-park-santa-fe-4/
LOCATION:Park Santa Fe Shopping Center\, 3500 E. Route 66\, Flagstaff\, AZ\, United States
END:VEVENT
BEGIN:VEVENT
DTSTART;TZID=America/Phoenix:20210618T180000
DTEND;TZID=America/Phoenix:20210618T200000
DTSTAMP:20260420T201711
CREATED:20210616T232236Z
LAST-MODIFIED:20210616T233316Z
UID:10000194-1624039200-1624046400@route66carclub.org
SUMMARY:Doney Park Food Truck Roundup
DESCRIPTION:Food trucks so far:\nFat-Mans Smokehouse\nThe Chile Box\nExpress Burritos\nEggsQuisite \nMusic by ‘Bout Time \n 
URL:https://route66carclub.org/event/doney-park-food-truck-roundup/
LOCATION:Silver Saddle Center\, 9100 Highway 89\, Flagstaff\, AZ\, United States
END:VEVENT
BEGIN:VEVENT
DTSTART;TZID=America/Phoenix:20210619T090000
DTEND;TZID=America/Phoenix:20210619T140000
DTSTAMP:20260420T201711
CREATED:20210605T185511Z
LAST-MODIFIED:20210610T221310Z
UID:10000259-1624093200-1624111200@route66carclub.org
SUMMARY:June 2021 Club Cruise to Mormon Lake Lodge
DESCRIPTION:June 2021 Cruise_updated
URL:https://route66carclub.org/event/june-club-cruise/
LOCATION:Mormon Lake Lodge\, 1991 Mormon Lake Road\, Mormon Lake\, AZ\, United States
END:VEVENT
BEGIN:VEVENT
DTSTART;TZID=America/Phoenix:20210625T170000
DTEND;TZID=America/Phoenix:20210625T200000
DTSTAMP:20260420T201711
CREATED:20210605T184058Z
LAST-MODIFIED:20210605T184058Z
UID:10000249-1624640400-1624651200@route66carclub.org
SUMMARY:Fridays at Park Santa Fe
DESCRIPTION:Park Santa Fe Shopping Center (Harbor Freight) parking lot.  Cars to assemble near the road (East Route 66.)
URL:https://route66carclub.org/event/fridays-at-park-santa-fe-5/
LOCATION:Park Santa Fe Shopping Center\, 3500 E. Route 66\, Flagstaff\, AZ\, United States
END:VEVENT
END:VCALENDAR