BEGIN:VCALENDAR
VERSION:2.0
PRODID:-//Route 66 Car Club of Flagstaff - ECPv6.15.20//NONSGML v1.0//EN
CALSCALE:GREGORIAN
METHOD:PUBLISH
X-ORIGINAL-URL:https://route66carclub.org
X-WR-CALDESC:Events for Route 66 Car Club of Flagstaff
REFRESH-INTERVAL;VALUE=DURATION:PT1H
X-Robots-Tag:noindex
X-PUBLISHED-TTL:PT1H
BEGIN:VTIMEZONE
TZID:America/Phoenix
BEGIN:STANDARD
TZOFFSETFROM:-0700
TZOFFSETTO:-0700
TZNAME:MST
DTSTART:20220101T000000
END:STANDARD
END:VTIMEZONE
BEGIN:VEVENT
DTSTART;VALUE=DATE:20230506
DTEND;VALUE=DATE:20230507
DTSTAMP:20260419T054943
CREATED:20230224T132143Z
LAST-MODIFIED:20230224T132143Z
UID:10000560-1683331200-1683417599@route66carclub.org
SUMMARY:Seligman Fun Run to Kingman
DESCRIPTION:Seligman Fun Run to Kingman: https://www.historic66az.com/33-fun-run.html
URL:https://route66carclub.org/event/seligman-fun-run-to-kingman/
END:VEVENT
END:VCALENDAR