BEGIN:VCALENDAR
VERSION:2.0
PRODID:-//Route 66 Car Club of Flagstaff - ECPv6.15.20//NONSGML v1.0//EN
CALSCALE:GREGORIAN
METHOD:PUBLISH
X-ORIGINAL-URL:https://route66carclub.org
X-WR-CALDESC:Events for Route 66 Car Club of Flagstaff
REFRESH-INTERVAL;VALUE=DURATION:PT1H
X-Robots-Tag:noindex
X-PUBLISHED-TTL:PT1H
BEGIN:VTIMEZONE
TZID:America/Phoenix
BEGIN:STANDARD
TZOFFSETFROM:-0700
TZOFFSETTO:-0700
TZNAME:MST
DTSTART:20210101T000000
END:STANDARD
END:VTIMEZONE
BEGIN:VEVENT
DTSTART;TZID=America/Phoenix:20221030T080000
DTEND;TZID=America/Phoenix:20221030T120000
DTSTAMP:20260419T161736
CREATED:20221024T225847Z
LAST-MODIFIED:20221024T225847Z
UID:10000373-1667116800-1667131200@route66carclub.org
SUMMARY:Cruise Into Comfort
DESCRIPTION:
URL:https://route66carclub.org/event/cruise-into-comfort/
LOCATION:Comfort Mobility & Medical Supplies\, 1230 W. Iron Springs Road\, Prescott\, AZ\, United States
END:VEVENT
END:VCALENDAR