BEGIN:VCALENDAR
VERSION:2.0
PRODID:-//Route 66 Car Club of Flagstaff - ECPv6.15.20//NONSGML v1.0//EN
CALSCALE:GREGORIAN
METHOD:PUBLISH
X-WR-CALNAME:Route 66 Car Club of Flagstaff
X-ORIGINAL-URL:https://route66carclub.org
X-WR-CALDESC:Events for Route 66 Car Club of Flagstaff
REFRESH-INTERVAL;VALUE=DURATION:PT1H
X-Robots-Tag:noindex
X-PUBLISHED-TTL:PT1H
BEGIN:VTIMEZONE
TZID:America/Phoenix
BEGIN:STANDARD
TZOFFSETFROM:-0700
TZOFFSETTO:-0700
TZNAME:MST
DTSTART:20210101T000000
END:STANDARD
END:VTIMEZONE
BEGIN:VEVENT
DTSTART;TZID=America/Phoenix:20220708T170000
DTEND;TZID=America/Phoenix:20220708T193000
DTSTAMP:20260419T225807
CREATED:20220708T220310Z
LAST-MODIFIED:20220708T220727Z
UID:10000351-1657299600-1657308600@route66carclub.org
SUMMARY:Doney Strong Food Roundup # 2
DESCRIPTION:Some folks will be at this event others will be at the Fridays at Park Santa Fe
URL:https://route66carclub.org/event/doney-strong-food-roundup-2/
LOCATION:Silver Saddle Center\, 9100 Highway 89\, Flagstaff\, AZ\, United States
END:VEVENT
BEGIN:VEVENT
DTSTART;TZID=America/Phoenix:20220708T170000
DTEND;TZID=America/Phoenix:20220708T200000
DTSTAMP:20260419T225807
CREATED:20220513T221443Z
LAST-MODIFIED:20220708T220949Z
UID:10000344-1657299600-1657310400@route66carclub.org
SUMMARY:Fridays at Park Santa Fe
DESCRIPTION:Park Santa Fe Shopping Center (Harbor Freight) parking lot.  Cars to assemble near the road (East Route 66.) \nSome folks will be at this event and others will be at the Doney Strong Food Roundup #2
URL:https://route66carclub.org/event/fridays-at-park-santa-fe-35/
LOCATION:Park Santa Fe Shopping Center\, 3500 E. Route 66\, Flagstaff\, AZ\, United States
END:VEVENT
END:VCALENDAR