BEGIN:VCALENDAR
VERSION:2.0
PRODID:-//Route 66 Car Club of Flagstaff - ECPv6.15.20//NONSGML v1.0//EN
CALSCALE:GREGORIAN
METHOD:PUBLISH
X-ORIGINAL-URL:https://route66carclub.org
X-WR-CALDESC:Events for Route 66 Car Club of Flagstaff
REFRESH-INTERVAL;VALUE=DURATION:PT1H
X-Robots-Tag:noindex
X-PUBLISHED-TTL:PT1H
BEGIN:VTIMEZONE
TZID:America/Phoenix
BEGIN:STANDARD
TZOFFSETFROM:-0700
TZOFFSETTO:-0700
TZNAME:MST
DTSTART:20210101T000000
END:STANDARD
END:VTIMEZONE
BEGIN:VEVENT
DTSTART;TZID=America/Phoenix:20220610T110000
DTEND;TZID=America/Phoenix:20220611T230000
DTSTAMP:20260420T003942
CREATED:20210721T181452Z
LAST-MODIFIED:20220306T212903Z
UID:10000270-1654858800-1654988400@route66carclub.org
SUMMARY:7th Annual Williams Historic Route 66 Car & Truck Show
DESCRIPTION:
URL:https://route66carclub.org/event/7th-annual-williams-historic-route-66-car-show/
LOCATION:williamshistoricroute66carshow\, Williams\, AZ\, United States
ORGANIZER;CN="American Legion%2C Cordova Post 13":MAILTO:williamshistoricroute66carshow@gmail.com
END:VEVENT
BEGIN:VEVENT
DTSTART;TZID=America/Phoenix:20220610T170000
DTEND;TZID=America/Phoenix:20220610T193000
DTSTAMP:20260420T003942
CREATED:20220513T220843Z
LAST-MODIFIED:20220513T220843Z
UID:10000340-1654880400-1654889400@route66carclub.org
SUMMARY:Fridays at Park Santa Fe
DESCRIPTION:Park Santa Fe Shopping Center (Harbor Freight) parking lot.  Cars to assemble near the road (East Route 66.)
URL:https://route66carclub.org/event/fridays-at-park-santa-fe-31/
LOCATION:Park Santa Fe Shopping Center\, 3500 E. Route 66\, Flagstaff\, AZ\, United States
END:VEVENT
END:VCALENDAR