BEGIN:VCALENDAR
VERSION:2.0
PRODID:-//Route 66 Car Club of Flagstaff - ECPv6.15.20//NONSGML v1.0//EN
CALSCALE:GREGORIAN
METHOD:PUBLISH
X-WR-CALNAME:Route 66 Car Club of Flagstaff
X-ORIGINAL-URL:https://route66carclub.org
X-WR-CALDESC:Events for Route 66 Car Club of Flagstaff
REFRESH-INTERVAL;VALUE=DURATION:PT1H
X-Robots-Tag:noindex
X-PUBLISHED-TTL:PT1H
BEGIN:VTIMEZONE
TZID:America/Phoenix
BEGIN:STANDARD
TZOFFSETFROM:-0700
TZOFFSETTO:-0700
TZNAME:MST
DTSTART:20210101T000000
END:STANDARD
END:VTIMEZONE
BEGIN:VEVENT
DTSTART;VALUE=DATE:20220429
DTEND;VALUE=DATE:20220502
DTSTAMP:20260420T041417
CREATED:20220115T215307Z
LAST-MODIFIED:20220306T213446Z
UID:10000315-1651190400-1651449599@route66carclub.org
SUMMARY:33rd Annual Historic Route 66 Fun Run
DESCRIPTION:
URL:https://route66carclub.org/event/33rd-annual-historic-route-66-fun-run/
END:VEVENT
BEGIN:VEVENT
DTSTART;TZID=America/Phoenix:20220430T080000
DTEND;TZID=America/Phoenix:20220430T160000
DTSTAMP:20260420T041417
CREATED:20220115T220046Z
LAST-MODIFIED:20220306T213409Z
UID:10000316-1651305600-1651334400@route66carclub.org
SUMMARY:April Action Moab Car Show
DESCRIPTION:
URL:https://route66carclub.org/event/april-action-moab-car-show/
LOCATION:Swanny City Park\, 400 N 100 W\, Moab\, UT\, United States
END:VEVENT
BEGIN:VEVENT
DTSTART;TZID=America/Phoenix:20220430T100000
DTEND;TZID=America/Phoenix:20220430T150000
DTSTAMP:20260420T041417
CREATED:20220211T181408Z
LAST-MODIFIED:20220306T213340Z
UID:10000321-1651312800-1651330800@route66carclub.org
SUMMARY:Orchard Ranch Resort Car Show & Craft Fair
DESCRIPTION:
URL:https://route66carclub.org/event/orchard-ranch-resort-car-show-craft-fair/
LOCATION:Orchard Ranch Resort\, 11250 E. State Route 69\, Prescott Valley\, AZ\, United States
END:VEVENT
END:VCALENDAR