BEGIN:VCALENDAR
VERSION:2.0
PRODID:-//Route 66 Car Club of Flagstaff - ECPv6.15.20//NONSGML v1.0//EN
CALSCALE:GREGORIAN
METHOD:PUBLISH
X-WR-CALNAME:Route 66 Car Club of Flagstaff
X-ORIGINAL-URL:https://route66carclub.org
X-WR-CALDESC:Events for Route 66 Car Club of Flagstaff
REFRESH-INTERVAL;VALUE=DURATION:PT1H
X-Robots-Tag:noindex
X-PUBLISHED-TTL:PT1H
BEGIN:VTIMEZONE
TZID:America/Phoenix
BEGIN:STANDARD
TZOFFSETFROM:-0700
TZOFFSETTO:-0700
TZNAME:MST
DTSTART:20210101T000000
END:STANDARD
END:VTIMEZONE
BEGIN:VEVENT
DTSTART;TZID=America/Phoenix:20220212T100000
DTEND;TZID=America/Phoenix:20220212T150000
DTSTAMP:20260420T074121
CREATED:20211202T230241Z
LAST-MODIFIED:20220306T213956Z
UID:10000286-1644660000-1644678000@route66carclub.org
SUMMARY:8th Annual Concours in the Hills
DESCRIPTION:If you have never been to this show\, it is the best one in Arizona. Some amazing cars – drivers\, show and even race cars. The food was amazing. Even had tables and tablecloths. Comments from Joe Policastro.
URL:https://route66carclub.org/event/8th-annual-concours-in-the-hills/
LOCATION:Fountain Park\, 12925 N Saguaro Blvd\, Fountain Hills\, AZ\, 85268\, United States
END:VEVENT
END:VCALENDAR