BEGIN:VCALENDAR
VERSION:2.0
PRODID:-//Route 66 Car Club of Flagstaff - ECPv6.15.20//NONSGML v1.0//EN
CALSCALE:GREGORIAN
METHOD:PUBLISH
X-ORIGINAL-URL:https://route66carclub.org
X-WR-CALDESC:Events for Route 66 Car Club of Flagstaff
REFRESH-INTERVAL;VALUE=DURATION:PT1H
X-Robots-Tag:noindex
X-PUBLISHED-TTL:PT1H
BEGIN:VTIMEZONE
TZID:America/Phoenix
BEGIN:STANDARD
TZOFFSETFROM:-0700
TZOFFSETTO:-0700
TZNAME:MST
DTSTART:20200101T000000
END:STANDARD
END:VTIMEZONE
BEGIN:VEVENT
DTSTART;TZID=America/Phoenix:20211218T170000
DTEND;TZID=America/Phoenix:20211218T183000
DTSTAMP:20260420T110911
CREATED:20211111T211817Z
LAST-MODIFIED:20211114T213833Z
UID:10000283-1639846800-1639852200@route66carclub.org
SUMMARY:Doney Park Holiday Lights Parade
DESCRIPTION:
URL:https://route66carclub.org/event/doney-park-holiday-parade/
LOCATION:Peaks View Park\, 8705 N Koch Field Rd\, Flagstaff\, AZ\, United States
END:VEVENT
END:VCALENDAR