BEGIN:VCALENDAR
VERSION:2.0
PRODID:-//Route 66 Car Club of Flagstaff - ECPv6.15.20//NONSGML v1.0//EN
CALSCALE:GREGORIAN
METHOD:PUBLISH
X-WR-CALNAME:Route 66 Car Club of Flagstaff
X-ORIGINAL-URL:https://route66carclub.org
X-WR-CALDESC:Events for Route 66 Car Club of Flagstaff
REFRESH-INTERVAL;VALUE=DURATION:PT1H
X-Robots-Tag:noindex
X-PUBLISHED-TTL:PT1H
BEGIN:VTIMEZONE
TZID:America/Phoenix
BEGIN:STANDARD
TZOFFSETFROM:-0700
TZOFFSETTO:-0700
TZNAME:MST
DTSTART:20200101T000000
END:STANDARD
END:VTIMEZONE
BEGIN:VEVENT
DTSTART;TZID=America/Phoenix:20211127T183000
DTEND;TZID=America/Phoenix:20211127T193000
DTSTAMP:20260420T131029
CREATED:20211111T183456Z
LAST-MODIFIED:20211111T183456Z
UID:10000282-1638037800-1638041400@route66carclub.org
SUMMARY:Williams Christmas Parade and Tree Lighting
DESCRIPTION:
URL:https://route66carclub.org/event/williams-christmas-parade-and-tree-lighting/
END:VEVENT
END:VCALENDAR