BEGIN:VCALENDAR
VERSION:2.0
PRODID:-//Route 66 Car Club of Flagstaff - ECPv6.15.20//NONSGML v1.0//EN
CALSCALE:GREGORIAN
METHOD:PUBLISH
X-WR-CALNAME:Route 66 Car Club of Flagstaff
X-ORIGINAL-URL:https://route66carclub.org
X-WR-CALDESC:Events for Route 66 Car Club of Flagstaff
REFRESH-INTERVAL;VALUE=DURATION:PT1H
X-Robots-Tag:noindex
X-PUBLISHED-TTL:PT1H
BEGIN:VTIMEZONE
TZID:America/Phoenix
BEGIN:STANDARD
TZOFFSETFROM:-0700
TZOFFSETTO:-0700
TZNAME:MST
DTSTART:20200101T000000
END:STANDARD
END:VTIMEZONE
BEGIN:VEVENT
DTSTART;TZID=America/Phoenix:20211111T080000
DTEND;TZID=America/Phoenix:20211113T170000
DTSTAMP:20260420T131029
CREATED:20210728T230742Z
LAST-MODIFIED:20210728T230742Z
UID:10000276-1636617600-1636822800@route66carclub.org
SUMMARY:Camp Verde Swap Meet & Car Show - Cars 1900 to1999
DESCRIPTION:
URL:https://route66carclub.org/event/camp-verde-swap-meet-car-show-cars-1900-to1999/
LOCATION:Camp Verde Equestrian Center\, 1495 E Hideout Arena Ln\, Camp Verde\, AZ\, 86322\, United States
END:VEVENT
BEGIN:VEVENT
DTSTART;TZID=America/Phoenix:20211113T093000
DTEND;TZID=America/Phoenix:20211113T170000
DTSTAMP:20260420T131029
CREATED:20211111T212907Z
LAST-MODIFIED:20211112T210011Z
UID:10000284-1636795800-1636822800@route66carclub.org
SUMMARY:November Club Cruise to Cottonwood for "Walkin' on Main"
DESCRIPTION:November 2021 Club Cruise Flyer
URL:https://route66carclub.org/event/november-club-cruise-to-cottonwood-for-walkin-on-main/
LOCATION:Old Town Cottonwood\, Main Street\, Cottonwood\, AZ\, United States
END:VEVENT
BEGIN:VEVENT
DTSTART;TZID=America/Phoenix:20211113T110000
DTEND;TZID=America/Phoenix:20211113T170000
DTSTAMP:20260420T131029
CREATED:20211027T223109Z
LAST-MODIFIED:20211027T223109Z
UID:10000279-1636801200-1636822800@route66carclub.org
SUMMARY:Walkin' On Main Car Show
DESCRIPTION:WOM -How to register for the car show
URL:https://route66carclub.org/event/walkin-on-main-car-show-2/
LOCATION:Old Town Cottonwood\, Main Street\, Cottonwood\, AZ\, United States
END:VEVENT
END:VCALENDAR