BEGIN:VCALENDAR
VERSION:2.0
PRODID:-//Route 66 Car Club of Flagstaff - ECPv6.15.20//NONSGML v1.0//EN
CALSCALE:GREGORIAN
METHOD:PUBLISH
X-ORIGINAL-URL:https://route66carclub.org
X-WR-CALDESC:Events for Route 66 Car Club of Flagstaff
REFRESH-INTERVAL;VALUE=DURATION:PT1H
X-Robots-Tag:noindex
X-PUBLISHED-TTL:PT1H
BEGIN:VTIMEZONE
TZID:America/Phoenix
BEGIN:STANDARD
TZOFFSETFROM:-0700
TZOFFSETTO:-0700
TZNAME:MST
DTSTART:20200101T000000
END:STANDARD
END:VTIMEZONE
BEGIN:VEVENT
DTSTART;TZID=America/Phoenix:20211106T100000
DTEND;TZID=America/Phoenix:20211106T140000
DTSTAMP:20260420T131027
CREATED:20210914T222556Z
LAST-MODIFIED:20210914T222556Z
UID:10000201-1636192800-1636207200@route66carclub.org
SUMMARY:Classic Cars For Kids 2021
DESCRIPTION:
URL:https://route66carclub.org/event/classic-cars-for-kids-2021/
LOCATION:Verde Valley RV Resort & Campground/Thousand Trails\, 6400 E Thousand Trails Rd\, Cottonwood\, AZ\, 86326\, United States
END:VEVENT
END:VCALENDAR