BEGIN:VCALENDAR
VERSION:2.0
PRODID:-//Route 66 Car Club of Flagstaff - ECPv6.15.20//NONSGML v1.0//EN
CALSCALE:GREGORIAN
METHOD:PUBLISH
X-ORIGINAL-URL:https://route66carclub.org
X-WR-CALDESC:Events for Route 66 Car Club of Flagstaff
REFRESH-INTERVAL;VALUE=DURATION:PT1H
X-Robots-Tag:noindex
X-PUBLISHED-TTL:PT1H
BEGIN:VTIMEZONE
TZID:America/Phoenix
BEGIN:STANDARD
TZOFFSETFROM:-0700
TZOFFSETTO:-0700
TZNAME:MST
DTSTART:20200101T000000
END:STANDARD
END:VTIMEZONE
BEGIN:VEVENT
DTSTART;TZID=America/Phoenix:20211029T163000
DTEND;TZID=America/Phoenix:20211029T183000
DTSTAMP:20260420T151103
CREATED:20210605T223711Z
LAST-MODIFIED:20211027T223333Z
UID:10000191-1635525000-1635532200@route66carclub.org
SUMMARY:Fridays at Park Santa Fe & Trunk or Treat
DESCRIPTION:Last one of the season!!!!\nPark Santa Fe Shopping Center (Harbor Freight) parking lot.  Cars to assemble near the road (East Route 66) facing the road so trunks can be open to the parking lot.
URL:https://route66carclub.org/event/fridays-at-park-santa-fe-23/
LOCATION:Park Santa Fe Shopping Center\, 3500 E. Route 66\, Flagstaff\, AZ\, United States
END:VEVENT
END:VCALENDAR