BEGIN:VCALENDAR
VERSION:2.0
PRODID:-//Route 66 Car Club of Flagstaff - ECPv6.15.20//NONSGML v1.0//EN
CALSCALE:GREGORIAN
METHOD:PUBLISH
X-WR-CALNAME:Route 66 Car Club of Flagstaff
X-ORIGINAL-URL:https://route66carclub.org
X-WR-CALDESC:Events for Route 66 Car Club of Flagstaff
REFRESH-INTERVAL;VALUE=DURATION:PT1H
X-Robots-Tag:noindex
X-PUBLISHED-TTL:PT1H
BEGIN:VTIMEZONE
TZID:America/Phoenix
BEGIN:STANDARD
TZOFFSETFROM:-0700
TZOFFSETTO:-0700
TZNAME:MST
DTSTART:20200101T000000
END:STANDARD
END:VTIMEZONE
BEGIN:VEVENT
DTSTART;TZID=America/Phoenix:20211013T180000
DTEND;TZID=America/Phoenix:20211013T190000
DTSTAMP:20260420T151011
CREATED:20210427T222648Z
LAST-MODIFIED:20211009T222641Z
UID:10000224-1634148000-1634151600@route66carclub.org
SUMMARY:October Membership Meeting
DESCRIPTION:Remember– Nominations for the Board of Directors and Suggestions for End of Year Charities\n  \nRemote attendance can no longer be accessed.
URL:https://route66carclub.org/event/october-membership-meeting/
LOCATION:Robert’s Shop (Quality Automotive)\, 5301 E. Empire\, Flagstaff\, AZ\, United States
END:VEVENT
END:VCALENDAR