BEGIN:VCALENDAR
VERSION:2.0
PRODID:-//Route 66 Car Club of Flagstaff - ECPv6.15.20//NONSGML v1.0//EN
CALSCALE:GREGORIAN
METHOD:PUBLISH
X-ORIGINAL-URL:https://route66carclub.org
X-WR-CALDESC:Events for Route 66 Car Club of Flagstaff
REFRESH-INTERVAL;VALUE=DURATION:PT1H
X-Robots-Tag:noindex
X-PUBLISHED-TTL:PT1H
BEGIN:VTIMEZONE
TZID:America/Phoenix
BEGIN:STANDARD
TZOFFSETFROM:-0700
TZOFFSETTO:-0700
TZNAME:MST
DTSTART:20200101T000000
END:STANDARD
END:VTIMEZONE
BEGIN:VEVENT
DTSTART;TZID=America/Phoenix:20211006T180000
DTEND;TZID=America/Phoenix:20211006T190000
DTSTAMP:20260420T151103
CREATED:20210605T183208Z
LAST-MODIFIED:20210903T220112Z
UID:10000245-1633543200-1633546800@route66carclub.org
SUMMARY:October Route 66 Car Club of Flagstaff Board Meeting
DESCRIPTION:Remote attendance is now possible! To join the meeting from your\ncomputer\, tablet or smartphone:\nhttps://global.gotomeeting.com/join/246306013 \nYou can also dial in using your phone.\nUnited States: +1 (646) 749-3122- One-touch:\ntel:+16467493122\,\,246306013#\nAccess Code: 246-306-013
URL:https://route66carclub.org/event/october-route-66-car-club-of-flagstaff-board-meeting/
LOCATION:John’s House\, Flagstaff\, AZ\, United States
END:VEVENT
END:VCALENDAR