BEGIN:VCALENDAR
VERSION:2.0
PRODID:-//Route 66 Car Club of Flagstaff - ECPv6.15.20//NONSGML v1.0//EN
CALSCALE:GREGORIAN
METHOD:PUBLISH
X-ORIGINAL-URL:https://route66carclub.org
X-WR-CALDESC:Events for Route 66 Car Club of Flagstaff
REFRESH-INTERVAL;VALUE=DURATION:PT1H
X-Robots-Tag:noindex
X-PUBLISHED-TTL:PT1H
BEGIN:VTIMEZONE
TZID:America/Phoenix
BEGIN:STANDARD
TZOFFSETFROM:-0700
TZOFFSETTO:-0700
TZNAME:MST
DTSTART:20200101T000000
END:STANDARD
END:VTIMEZONE
BEGIN:VEVENT
DTSTART;TZID=America/Phoenix:20210908T180000
DTEND;TZID=America/Phoenix:20210908T190000
DTSTAMP:20260420T165640
CREATED:20210427T222425Z
LAST-MODIFIED:20210908T215745Z
UID:10000223-1631124000-1631127600@route66carclub.org
SUMMARY:September Membership Meeting
DESCRIPTION:Remote attendance will be audio-only dial-in tonight (no video)!!!! \nJoin the meeting from your computer\, tablet or smartphone. \nhttps://global.gotomeeting.com/join/246306013 \nYou can also dial in using your phone.\n(For supported devices\, tap a one-touch number below to join instantly.) \nUnited States: +1 (646) 749-3122\n– One-touch: tel:+16467493122\,\,246306013# \nAccess Code: 246-306-013
URL:https://route66carclub.org/event/september-membership-meeting/
LOCATION:Robert’s Shop (Quality Automotive)\, 5301 E. Empire\, Flagstaff\, AZ\, United States
END:VEVENT
END:VCALENDAR