BEGIN:VCALENDAR
VERSION:2.0
PRODID:-//Route 66 Car Club of Flagstaff - ECPv6.15.20//NONSGML v1.0//EN
CALSCALE:GREGORIAN
METHOD:PUBLISH
X-WR-CALNAME:Route 66 Car Club of Flagstaff
X-ORIGINAL-URL:https://route66carclub.org
X-WR-CALDESC:Events for Route 66 Car Club of Flagstaff
REFRESH-INTERVAL;VALUE=DURATION:PT1H
X-Robots-Tag:noindex
X-PUBLISHED-TTL:PT1H
BEGIN:VTIMEZONE
TZID:America/Phoenix
BEGIN:STANDARD
TZOFFSETFROM:-0700
TZOFFSETTO:-0700
TZNAME:MST
DTSTART:20200101T000000
END:STANDARD
END:VTIMEZONE
BEGIN:VEVENT
DTSTART;TZID=America/Phoenix:20210828T080000
DTEND;TZID=America/Phoenix:20210828T150000
DTSTAMP:20260420T183845
CREATED:20210603T221215Z
LAST-MODIFIED:20210821T234132Z
UID:10000240-1630137600-1630162800@route66carclub.org
SUMMARY:Route 66 Car Club of Flagstaff 2nd Annual Charity Car Show at Thunder-Over-Flagstaff
DESCRIPTION:2021 TOF Car Show Flyer \n2021 TOF Car Show Registration Form \nATTENTION:  Those trailering a vehicle to the show must drop off the show vehicle and then park the other car and trailer at the south parking lot of Northern Arizona University (NAU) — the parking lot (P62B)you can see as you come off of the highway.  See lower left of the following map . Shuttle busses will run to and from Thunder Over Flagstaff and the Car Show from this parking lot.
URL:https://route66carclub.org/event/route-66-car-club-of-flagstaff-2nd-annual-charity-car-show-at-thunder-over-flagstaff/
LOCATION:Flagstaff Pullium Airport\, 6200 S Pulliam Drive\, Flagstaff\, AZ\, United States
END:VEVENT
END:VCALENDAR