BEGIN:VCALENDAR
VERSION:2.0
PRODID:-//Route 66 Car Club of Flagstaff - ECPv6.15.20//NONSGML v1.0//EN
CALSCALE:GREGORIAN
METHOD:PUBLISH
X-WR-CALNAME:Route 66 Car Club of Flagstaff
X-ORIGINAL-URL:https://route66carclub.org
X-WR-CALDESC:Events for Route 66 Car Club of Flagstaff
REFRESH-INTERVAL;VALUE=DURATION:PT1H
X-Robots-Tag:noindex
X-PUBLISHED-TTL:PT1H
BEGIN:VTIMEZONE
TZID:America/Phoenix
BEGIN:STANDARD
TZOFFSETFROM:-0700
TZOFFSETTO:-0700
TZNAME:MST
DTSTART:20200101T000000
END:STANDARD
END:VTIMEZONE
BEGIN:VEVENT
DTSTART;TZID=America/Phoenix:20210704T180000
DTEND;TZID=America/Phoenix:20210704T190000
DTSTAMP:20260420T201230
CREATED:20210610T223200Z
LAST-MODIFIED:20210610T223200Z
UID:10000192-1625421600-1625425200@route66carclub.org
SUMMARY:Williams July 4th Parade
DESCRIPTION:Deadline to enter is June 18\, 2021!
URL:https://route66carclub.org/event/williams-july-4th-parade/
ORGANIZER;CN="City of Williams AZ":MAILTO:slopez@williamsaz.gov
END:VEVENT
END:VCALENDAR